BEGIN:VCALENDAR
VERSION:2.0
PRODID:-//ChamberMaster//Event Calendar 2.0//EN
METHOD:PUBLISH
X-PUBLISHED-TTL:P3D
REFRESH-INTERVAL:P3D
CALSCALE:GREGORIAN
BEGIN:VEVENT
DTSTART:20260117T070000Z
DTEND:20260117T220000Z
X-MICROSOFT-CDO-ALLDAYEVENT:FALSE
SUMMARY:Introduction to Beekeeping
DESCRIPTION:Curious about beekeeping? This class is perfect for bee-ginners wanting to know more about honey bees and basic beekeeping practices. We will cover honey bee biology\, purchasing equipment\, best management practices\, honey production\, and caring for healthy bees. Instructor Chris Schad is a master naturalist\, former President of the Minnesota beekeepers association and an advisor at the University of Minnesota Bee Squad. He'll share that experience to help you begin this amazing hobby.\n\n \n\nThe foundation of this class is the University of Minnesota's Beekeeping in Northern Climates - Third Edition\, a manual Chris was a contributing author of. We recommend participants should consider purchasing or downloading a free PDF version in advance of the class.
X-ALT-DESC;FMTTYPE=text/html:<div><span style="font-size:16px"><span style="font-family:arial">Curious about beekeeping? This class is perfect for bee-ginners wanting to know more about honey bees and basic beekeeping practices. We will cover honey bee biology\, purchasing equipment\, best management practices\, honey production\, and caring for healthy bees. Instructor Chris Schad is a master naturalist\, former President of the Minnesota beekeepers association and an advisor at the University of Minnesota Bee Squad. He&#39\;ll share that experience to help you begin this amazing hobby.</span></span></div>\n\n<div>&nbsp\;</div>\n\n<div><span style="font-size:16px"><span style="font-family:arial">The foundation of this class is the University of Minnesota&#39\;s&nbsp\;<em>Beekeeping in Northern Climates - Third Edition</em>\, a manual Chris was a contributing author of. We recommend participants should consider purchasing or downloading a free PDF version in advance of the class.</span></span></div>\n
LOCATION:The Visitor Center at the Oliver Kelley Farm
UID:e.32.32739
SEQUENCE:3
DTSTAMP:20260422T005310Z
URL:http://mobile.elkriverchamber.org/events/details/introduction-to-beekeeping-32739
END:VEVENT

END:VCALENDAR
