BEGIN:VCALENDAR
VERSION:2.0
PRODID:-//ChamberMaster//Event Calendar 2.0//EN
METHOD:PUBLISH
X-PUBLISHED-TTL:P3D
REFRESH-INTERVAL:P3D
CALSCALE:GREGORIAN
BEGIN:VEVENT
DTSTART:20251109T160000Z
DTEND:20251109T210000Z
X-MICROSOFT-CDO-ALLDAYEVENT:FALSE
SUMMARY:Holly Jolly Market
DESCRIPTION:In 2025 the 8th annual Holly Jolly Market will be:\n\nNovember 7 (9:00 am to 6:00 pm)\, \n\nNovember 8 (9:00 am to 5:00 pm)\,\n\nNovember 9 (10:00 am to 3:00 pm)\n\nOur back greenhouse will be filled with 30+ dealers selling vintage-Repurposed-Primitives-Holiday-Furniture.\n\nIf you want to apply to be a vendor or need further information please contact: 612.850.9768 or view their Facebook   click here\,
X-ALT-DESC;FMTTYPE=text/html:<p style="box-sizing: border-box\; margin: 0.85em 0px\; padding: 0px\; border: 0px transparent\; font-variant-numeric: inherit\; font-variant-east-asian: inherit\; font-variant-alternates: inherit\; font-variant-position: inherit\; font-variant-emoji: inherit\; font-stretch: inherit\; font-size: 14px\; line-height: inherit\; font-family: lato\, HelveticaNeue\, &quot\;Helvetica Neue&quot\;\, Helvetica-Neue\, Helvetica\, Arial\, sans-serif\; font-optical-sizing: inherit\; font-size-adjust: inherit\; font-kerning: inherit\; font-feature-settings: inherit\; font-variation-settings: inherit\; vertical-align: baseline\; color: rgb(102\, 102\, 102)\; background-color: rgb(255\, 255\, 255)\;"><span style="box-sizing: border-box\; margin: 0px\; padding: 0px\; border: 0px transparent\; font-style: inherit\; font-variant: inherit\; font-weight: inherit\; font-stretch: inherit\; font-size: 24pt\; line-height: inherit\; font-family: inherit\; font-optical-sizing: inherit\; font-size-adjust: inherit\; font-kerning: inherit\; font-feature-settings: inherit\; font-variation-settings: inherit\; vertical-align: baseline\; color: rgb(255\, 0\, 0)\;">In 2025 the 8th annual Holly Jolly Market will be:</span></p>\n\n<p style="box-sizing: border-box\; margin: 0.85em 0px\; padding: 0px\; border: 0px transparent\; font-variant-numeric: inherit\; font-variant-east-asian: inherit\; font-variant-alternates: inherit\; font-variant-position: inherit\; font-variant-emoji: inherit\; font-stretch: inherit\; font-size: 14px\; line-height: inherit\; font-family: lato\, HelveticaNeue\, &quot\;Helvetica Neue&quot\;\, Helvetica-Neue\, Helvetica\, Arial\, sans-serif\; font-optical-sizing: inherit\; font-size-adjust: inherit\; font-kerning: inherit\; font-feature-settings: inherit\; font-variation-settings: inherit\; vertical-align: baseline\; color: rgb(102\, 102\, 102)\; background-color: rgb(255\, 255\, 255)\;"><span style="box-sizing: border-box\; margin: 0px\; padding: 0px\; border: 0px transparent\; font-style: inherit\; font-variant: inherit\; font-weight: inherit\; font-stretch: inherit\; font-size: 24pt\; line-height: inherit\; font-family: inherit\; font-optical-sizing: inherit\; font-size-adjust: inherit\; font-kerning: inherit\; font-feature-settings: inherit\; font-variation-settings: inherit\; vertical-align: baseline\; color: rgb(255\, 0\, 0)\;">November 7 (9:00 am to 6:00 pm)\,&nbsp\;</span></p>\n\n<p style="box-sizing: border-box\; margin: 0.85em 0px\; padding: 0px\; border: 0px transparent\; font-variant-numeric: inherit\; font-variant-east-asian: inherit\; font-variant-alternates: inherit\; font-variant-position: inherit\; font-variant-emoji: inherit\; font-stretch: inherit\; font-size: 14px\; line-height: inherit\; font-family: lato\, HelveticaNeue\, &quot\;Helvetica Neue&quot\;\, Helvetica-Neue\, Helvetica\, Arial\, sans-serif\; font-optical-sizing: inherit\; font-size-adjust: inherit\; font-kerning: inherit\; font-feature-settings: inherit\; font-variation-settings: inherit\; vertical-align: baseline\; color: rgb(102\, 102\, 102)\; background-color: rgb(255\, 255\, 255)\;"><span style="box-sizing: border-box\; margin: 0px\; padding: 0px\; border: 0px transparent\; font-style: inherit\; font-variant: inherit\; font-weight: inherit\; font-stretch: inherit\; font-size: 24pt\; line-height: inherit\; font-family: inherit\; font-optical-sizing: inherit\; font-size-adjust: inherit\; font-kerning: inherit\; font-feature-settings: inherit\; font-variation-settings: inherit\; vertical-align: baseline\; color: rgb(255\, 0\, 0)\;">November 8 (9:00 am to 5:00 pm)\,</span></p>\n\n<p style="box-sizing: border-box\; margin: 0.85em 0px\; padding: 0px\; border: 0px transparent\; font-variant-numeric: inherit\; font-variant-east-asian: inherit\; font-variant-alternates: inherit\; font-variant-position: inherit\; font-variant-emoji: inherit\; font-stretch: inherit\; font-size: 14px\; line-height: inherit\; font-family: lato\, HelveticaNeue\, &quot\;Helvetica Neue&quot\;\, Helvetica-Neue\, Helvetica\, Arial\, sans-serif\; font-optical-sizing: inherit\; font-size-adjust: inherit\; font-kerning: inherit\; font-feature-settings: inherit\; font-variation-settings: inherit\; vertical-align: baseline\; color: rgb(102\, 102\, 102)\; background-color: rgb(255\, 255\, 255)\;"><span style="box-sizing: border-box\; margin: 0px\; padding: 0px\; border: 0px transparent\; font-style: inherit\; font-variant: inherit\; font-weight: inherit\; font-stretch: inherit\; font-size: 24pt\; line-height: inherit\; font-family: inherit\; font-optical-sizing: inherit\; font-size-adjust: inherit\; font-kerning: inherit\; font-feature-settings: inherit\; font-variation-settings: inherit\; vertical-align: baseline\; color: rgb(255\, 0\, 0)\;">November 9 (10:00 am to 3:00 pm)</span></p>\n\n<p style="box-sizing: border-box\; margin: 0.85em 0px\; padding: 0px\; border: 0px transparent\; font-variant-numeric: inherit\; font-variant-east-asian: inherit\; font-variant-alternates: inherit\; font-variant-position: inherit\; font-variant-emoji: inherit\; font-stretch: inherit\; font-size: 14px\; line-height: inherit\; font-family: lato\, HelveticaNeue\, &quot\;Helvetica Neue&quot\;\, Helvetica-Neue\, Helvetica\, Arial\, sans-serif\; font-optical-sizing: inherit\; font-size-adjust: inherit\; font-kerning: inherit\; font-feature-settings: inherit\; font-variation-settings: inherit\; vertical-align: baseline\; color: rgb(102\, 102\, 102)\; background-color: rgb(255\, 255\, 255)\;"><span style="box-sizing: border-box\; margin: 0px\; padding: 0px\; border: 0px transparent\; font-style: inherit\; font-variant: inherit\; font-weight: inherit\; font-stretch: inherit\; font-size: 24pt\; line-height: inherit\; font-family: inherit\; font-optical-sizing: inherit\; font-size-adjust: inherit\; font-kerning: inherit\; font-feature-settings: inherit\; font-variation-settings: inherit\; vertical-align: baseline\; color: rgb(255\, 0\, 0)\;">Our back greenhouse will be filled with 30+ dealers selling vintage-Repurposed-Primitives-Holiday-Furniture.</span></p>\n\n<p style="box-sizing: border-box\; margin: 0.85em 0px\; padding: 0px\; border: 0px transparent\; font-variant-numeric: inherit\; font-variant-east-asian: inherit\; font-variant-alternates: inherit\; font-variant-position: inherit\; font-variant-emoji: inherit\; font-stretch: inherit\; font-size: 14px\; line-height: inherit\; font-family: lato\, HelveticaNeue\, &quot\;Helvetica Neue&quot\;\, Helvetica-Neue\, Helvetica\, Arial\, sans-serif\; font-optical-sizing: inherit\; font-size-adjust: inherit\; font-kerning: inherit\; font-feature-settings: inherit\; font-variation-settings: inherit\; vertical-align: baseline\; color: rgb(102\, 102\, 102)\; background-color: rgb(255\, 255\, 255)\;"><span style="box-sizing: border-box\; margin: 0px\; padding: 0px\; border: 0px transparent\; font-style: inherit\; font-variant: inherit\; font-weight: inherit\; font-stretch: inherit\; font-size: 24pt\; line-height: inherit\; font-family: inherit\; font-optical-sizing: inherit\; font-size-adjust: inherit\; font-kerning: inherit\; font-feature-settings: inherit\; font-variation-settings: inherit\; vertical-align: baseline\; color: rgb(255\, 0\, 0)\;">If you want to apply to be a vendor or need further information please contact: 612.850.9768 or view their Facebook&nbsp\; &nbsp\;<a href="https://www.facebook.com/Holly-Jolly-Market-152252982102998/" style="box-sizing: border-box\; margin: 0px\; padding: 0px\; border: 0px transparent\; font: inherit\; vertical-align: baseline\; text-decoration-line: none\; outline: 0px\; max-width: 100%\; color: rgb(245\, 101\, 17)\;">click here\,</a></span></p>\n
LOCATION:8980 Quantrelle Ave\, Otsego\, MN
UID:e.32.32791
SEQUENCE:3
DTSTAMP:20260421T214230Z
URL:http://mobile.elkriverchamber.org/events/details/holly-jolly-market-32791
END:VEVENT

END:VCALENDAR
