BEGIN:VCALENDAR
VERSION:2.0
PRODID:-//ChamberMaster//Event Calendar 2.0//EN
METHOD:PUBLISH
X-PUBLISHED-TTL:P3D
REFRESH-INTERVAL:P3D
CALSCALE:GREGORIAN
BEGIN:VEVENT
DTSTART:20251129T150000Z
DTEND:20251129T210000Z
X-MICROSOFT-CDO-ALLDAYEVENT:FALSE
SUMMARY:Holiday's Makers Market
DESCRIPTION:Start the holiday shopping season at our annual Holiday Makers Market!\n\nEach year\, our Field House is full of great local makers and artists selling their seasonal products. Come find unique gifts\, stocking stuffers\, and delicious goodies this holiday season!
X-ALT-DESC;FMTTYPE=text/html:<font face="arial"><span style="font-size: 16px\;">Start the holiday shopping season at our annual Holiday Makers Market!<br />\nEach year\, our Field House is full of great local makers and artists selling their seasonal products. Come find unique gifts\, stocking stuffers\, and delicious goodies this holiday season!</span></font>
LOCATION:Furniture & Things Community Event Center 1000 School St. NW Elk River
UID:e.32.32649
SEQUENCE:3
DTSTAMP:20260421T194752Z
URL:http://mobile.elkriverchamber.org/events/details/holiday-s-makers-market-32649
END:VEVENT

END:VCALENDAR
