BEGIN:VCALENDAR
VERSION:2.0
PRODID:-//ChamberMaster//Event Calendar 2.0//EN
METHOD:PUBLISH
X-PUBLISHED-TTL:P3D
REFRESH-INTERVAL:P3D
CALSCALE:GREGORIAN
BEGIN:VEVENT
DTSTART:20250925T200000Z
DTEND:20250925T230000Z
X-MICROSOFT-CDO-ALLDAYEVENT:FALSE
SUMMARY:Guardian Angels Artisan Fair
DESCRIPTION:Guardian Angels is hosting our very first Employee Vendor Fair on Thursday\, September 25th\n\n\n\nDiscover the hidden talents of Guardian Angels team members at this one of a kind marketplace. From handmade crafts and baked treats to unique gifts and home decor\, there's something for everyone. Come browse\, shop\, and support these creative passions. Plus\, enjoy some extra delights while you shop. Grab a bite from the on-site food truck\, snuggle adoptable puppies\, courtesy of Tiny Heinies\, LLC\, and take home a fresh bouquet from Flowers Plus.\n\n\n	Handmade crafts\n	Baked treats\n	Unique gifts\n	Home decor\n	Food truck\n	Fresh flowers (Flowers Plus)\n	The Gym 365 discounts
X-ALT-DESC;FMTTYPE=text/html:<div style="font-size: 16px\;"><span style="font-family:arial\;"><span style="color: rgb(34\, 34\, 34)\; background-color: rgb(255\, 255\, 255)\;">Guardian Angels is hosting our very first Employee Vendor Fair on Thursday\, September 25</span><sup style="color: rgb(34\, 34\, 34)\; font-family: Arial\, Helvetica\, sans-serif\; background-color: rgb(255\, 255\, 255)\;">th</sup><br />\n<br />\n<span style="color: rgb(34\, 34\, 34)\; background-color: rgb(255\, 255\, 255)\;">Discover the hidden talents of Guardian Angels team members at this one of a kind marketplace. From handmade crafts and baked treats to unique gifts and home decor\, there&rsquo\;s something for everyone. Come browse\, shop\, and support these creative passions. Pl</span></span><span style="color: rgb(34\, 34\, 34)\; background-color: rgb(255\, 255\, 255)\;">us\, enjoy some extra delights while you shop. Grab a bite from the on-site food truck\, snuggle adoptable puppies\, courtesy of Tiny Heinies\, LLC\, and take home a fresh bouquet from Flowers Plus.</span></div>\n\n<ul>\n	<li style="font-size: 16px\;">Handmade crafts</li>\n	<li style="font-size: 16px\;">Baked treats</li>\n	<li style="font-size: 16px\;">Unique gifts</li>\n	<li style="font-size: 16px\;">Home decor</li>\n	<li style="font-size: 16px\;">Food truck</li>\n	<li style="font-size: 16px\;">Fresh flowers (Flowers Plus)</li>\n	<li><span style="font-size:16px\;">The Gym 365 discounts</span></li>\n</ul>\n
LOCATION:The Gyn 365/Flowers Plus parking lot 520 Freeport Ave Elk River
UID:e.32.32717
SEQUENCE:3
DTSTAMP:20260421T175523Z
URL:http://mobile.elkriverchamber.org/events/details/guardian-angels-artisan-fair-32717
END:VEVENT

END:VCALENDAR
