BEGIN:VCALENDAR
VERSION:2.0
PRODID:-//ChamberMaster//Event Calendar 2.0//EN
METHOD:PUBLISH
X-PUBLISHED-TTL:P3D
REFRESH-INTERVAL:P3D
CALSCALE:GREGORIAN
BEGIN:VEVENT
DTSTART:20250625T160000Z
DTEND:20250625T183000Z
X-MICROSOFT-CDO-ALLDAYEVENT:FALSE
SUMMARY:Food Trucks at City Hall
DESCRIPTION:Visiting Orono Park or the Elk River Public Library this summer? \n \n\nStop by City Hall on Wednesday\, June 25 for lunch. \n\n \n\nTop It Food Truck will be onsite from 11:00 a.m. to 1:30 p.m.
X-ALT-DESC;FMTTYPE=text/html:<span style="font-size:16px\;"><span style="font-family:arial\;"><span style="color: rgb(56\, 56\, 56)\; background-color: rgb(255\, 255\, 255)\;">Visiting Orono Park or the Elk River Public Library this summer?&nbsp\;</span></span></span>\n<div>&nbsp\;</div>\n\n<div><span style="font-size:16px\;"><span style="font-family:arial\;"><span style="color: rgb(56\, 56\, 56)\; background-color: rgb(255\, 255\, 255)\;">Stop by City Hall on Wednesday\, June 25 for lunch.&nbsp\;</span></span></span></div>\n\n<div>&nbsp\;</div>\n\n<div><span style="font-size:16px\;"><span style="font-family:arial\;"><span style="color: rgb(56\, 56\, 56)\; background-color: rgb(255\, 255\, 255)\;">Top It Food Truck will be onsite from 11:00 a.m. to 1:30 p.m.</span></span></span></div>\n
LOCATION:City Hall 13065 Orono Pkwy NW Elk River
UID:e.32.32610
SEQUENCE:3
DTSTAMP:20260419T202201Z
URL:http://mobile.elkriverchamber.org/events/details/food-trucks-at-city-hall-32610
END:VEVENT

END:VCALENDAR
