BEGIN:VCALENDAR
VERSION:2.0
PRODID:-//ChamberMaster//Event Calendar 2.0//EN
METHOD:PUBLISH
X-PUBLISHED-TTL:P3D
REFRESH-INTERVAL:P3D
CALSCALE:GREGORIAN
BEGIN:VEVENT
DTSTART:20251206T160000Z
DTEND:20251206T220000Z
X-MICROSOFT-CDO-ALLDAYEVENT:FALSE
SUMMARY:Farmer's Christmas Celebration
DESCRIPTION:Experience how farm families celebrated the Christmas holiday! Warm up with a Christmas cookie in our historic house\, while making traditional decorations for our tree. Before you leave\, make an ornament to take home and enjoy seasonal refreshments in the visitor center at the Oliver Kelley Farm.
X-ALT-DESC;FMTTYPE=text/html:<span style="color:rgb(38\, 46\, 51)\; font-family:montserrat\,sans-serif\; font-size:18px">Experience how farm families celebrated the Christmas holiday! Warm up with a Christmas cookie in our historic house\, while making traditional decorations for our tree. Before you leave\, make an ornament to take home and enjoy seasonal refreshments in the visitor center at the Oliver Kelley Farm.</span>
LOCATION:
UID:e.32.32749
SEQUENCE:3
DTSTAMP:20260421T230139Z
URL:http://mobile.elkriverchamber.org/events/details/farmer-s-christmas-celebration-32749
END:VEVENT

END:VCALENDAR
