BEGIN:VCALENDAR
VERSION:2.0
PRODID:-//ChamberMaster//Event Calendar 2.0//EN
METHOD:PUBLISH
X-PUBLISHED-TTL:P3D
REFRESH-INTERVAL:P3D
CALSCALE:GREGORIAN
BEGIN:VEVENT
DTSTART:20251004T140000Z
DTEND:20251004T200000Z
X-MICROSOFT-CDO-ALLDAYEVENT:FALSE
SUMMARY:Fall Makers Market
DESCRIPTION:Fall into creativity at our annual Fall Makers Market. Celebrate the start of the cozy season by shopping with our local artists and makers. From home d cor to early gift ideas\, you are sure to leave with something new.\n\nThe market is on Saturday\, October 4 from 9:00 a.m. to 3:00 p.m. in our Field House.\n\nClick here to learn vendor information.
X-ALT-DESC;FMTTYPE=text/html:<p id="isPasted" style="box-sizing: initial\; margin: 0px 0px 6px\; padding: 0px\; border: 0px\; outline: 0px\; font-size: 16px\; font-family: &quot\;Open Sans&quot\;\; vertical-align: baseline\; color: rgb(51\, 51\, 51)\; background-color: rgb(255\, 255\, 255)\;">Fall into creativity at our annual Fall Makers Market. Celebrate the start of the cozy season by shopping with our local artists and makers. From home d&eacute\;cor to early gift ideas\, you are sure to leave with something new.</p>\n\n<p style="box-sizing: initial\; margin: 0px 0px 6px\; padding: 0px\; border: 0px\; outline: 0px\; font-size: 16px\; font-family: &quot\;Open Sans&quot\;\; vertical-align: baseline\; color: rgb(51\, 51\, 51)\; background-color: rgb(255\, 255\, 255)\;">The market is on Saturday\, October 4 from 9:00 a.m. to 3:00 p.m. in our Field House.</p>\n\n<p style="box-sizing: initial\; margin: 0px 0px 6px\; padding: 0px\; border: 0px\; outline: 0px\; font-size: 16px\; font-family: &quot\;Open Sans&quot\;\; vertical-align: baseline\; color: rgb(51\, 51\, 51)\; background-color: rgb(255\, 255\, 255)\;"><a aria-label="Click here to learn vendor information. Opens in new window" href="https://bit.ly/3TWY5iq" rel="noopener" style="box-sizing: initial\; margin: 0px\; padding: 0px\; border: 0px\; outline: 0px\; font-weight: inherit\; font-style: inherit\; font-family: inherit\; vertical-align: baseline\; overflow-wrap: anywhere\; word-break: normal\; color: rgb(160\, 77\, 35)\;" target="_blank">Click here to learn vendor information.</a></p>\n
LOCATION:Furniture & Things Community Event Center 1000 School St NW Elk River
UID:e.32.32648
SEQUENCE:3
DTSTAMP:20260421T175304Z
URL:http://mobile.elkriverchamber.org/events/details/fall-makers-market-32648
END:VEVENT

END:VCALENDAR
