BEGIN:VCALENDAR
VERSION:2.0
PRODID:-//ChamberMaster//Event Calendar 2.0//EN
METHOD:PUBLISH
X-PUBLISHED-TTL:P3D
REFRESH-INTERVAL:P3D
CALSCALE:GREGORIAN
BEGIN:VEVENT
DTSTART:20251003T170000Z
DTEND:20251003T220000Z
X-MICROSOFT-CDO-ALLDAYEVENT:FALSE
SUMMARY:Fall in Style with Ray-Ban
DESCRIPTION:Fall Into Style: Ray-Ban ft. Meta Trunk Show\n\nCome spend the day with us at Kennedy Vision Health Center   Otsego as we celebrate fall with a fun\, family-friendly trunk show!\n\nWhere: Kennedy Vision Health Center   Otsego\n\n9075 Quantrelle Ave NE\, Otsego\, MN 55330\n\nWhen:\n\n\n	\n	Friday\, October 3 | 12:00 PM   5:00 PM\n	\n	Saturday\, October 4 | 10:00 AM   2:00 PM\n\n\nWhat's Happening:\n\nWe're bringing the newest Ray-Ban ft. Meta smart glasses and all your favorite Ray-Ban frames right here to Otsego! Meet our friendly team and brand rep\, Suzy\, try on frames\, and enjoy a cozy fall atmosphere while you shop.\n\nExclusive Event Perks:\n\n40% off all frames on your first purchase\n\nSpecial second-pair savings\n\nA chance to refresh your look before the holidays\n\nThis is a great way to support a local clinic\, connect with neighbors\, and discover eyewear that makes you feel confident. Bring a friend and make it a fun outing we can't wait to see you there!
X-ALT-DESC;FMTTYPE=text/html:<p><span style="font-size:16px\;"><span style="font-family:arial\;"><strong>Fall Into Style: Ray-Ban ft. Meta Trunk Show</strong><br />\nCome spend the day with us at Kennedy Vision Health Center &ndash\; Otsego as we celebrate fall with a fun\, family-friendly trunk show!</span></span></p>\n\n<p><span style="font-size:16px\;"><span style="font-family:arial\;"><strong>Where:</strong> Kennedy Vision Health Center &ndash\; Otsego<br />\n9075 Quantrelle Ave NE\, Otsego\, MN 55330</span></span></p>\n\n<p><span style="font-size:16px\;"><span style="font-family:arial\;"><strong>When:</strong></span></span></p>\n\n<ul>\n	<li>\n	<p><span style="font-size:16px\;"><span style="font-family:arial\;"><strong>Friday\, October 3</strong> | 12:00 PM &ndash\; 5:00 PM</span></span></p>\n	</li>\n	<li><span style="font-size:16px\;"><span style="font-family:arial\;"><strong>Saturday\, October 4</strong> | 10:00 AM &ndash\; 2:00 PM</span></span></li>\n</ul>\n\n<p><span style="font-size:16px\;"><span style="font-family:arial\;"><strong>What&rsquo\;s Happening:</strong><br />\nWe&rsquo\;re bringing the newest <strong>Ray-Ban ft. Meta smart glasses</strong> and all your favorite Ray-Ban frames right here to Otsego! Meet our friendly team and brand rep\, Suzy\, try on frames\, and enjoy a cozy fall atmosphere while you shop.</span></span></p>\n\n<p><span style="font-size:16px\;"><span style="font-family:arial\;"><strong>Exclusive Event Perks:</strong><br />\n<strong>40% off all frames</strong> on your first purchase<br />\nSpecial second-pair savings<br />\nA chance to refresh your look before the holidays</span></span></p>\n\n<p><span style="font-size:16px\;"><span style="font-family:arial\;">This is a great way to support a local clinic\, connect with neighbors\, and discover eyewear that makes you feel confident. Bring a friend and make it a fun outing&mdash\;we can&rsquo\;t wait to see you there!</span></span></p>\n
LOCATION:Kennedy Vision Health Center - Otsego 9075 Quantrelle Ave NE Otsego\, MN 55330
UID:e.32.32715
SEQUENCE:3
DTSTAMP:20260421T175244Z
URL:http://mobile.elkriverchamber.org/events/details/fall-in-style-with-ray-ban-32715
END:VEVENT

END:VCALENDAR
