BEGIN:VCALENDAR
VERSION:2.0
PRODID:-//ChamberMaster//Event Calendar 2.0//EN
METHOD:PUBLISH
X-PUBLISHED-TTL:P3D
REFRESH-INTERVAL:P3D
CALSCALE:GREGORIAN
BEGIN:VEVENT
DTSTART:20251014T170000Z
DTEND:20251014T183000Z
X-MICROSOFT-CDO-ALLDAYEVENT:FALSE
SUMMARY:ERACC ANNUAL BUSINESS AWARDS LUNCHEON
DESCRIPTION:Join us for the Elk River Area Chamber's Annual Business & Volunteer Awards Luncheon as we celebrate outstanding businesses and community leaders who remind us that Together We Shape Our Future.\n\nThis year's honorees include:\n\n\n	LeFebvre Companies   Large Business of the Year\n	Hometown Electrical Services   Small Business of the Year\n	Riley & Associates   Employer of the Year\n	Henderson Home Painting   New Business of the Year\n	Hannah-Ruth Patterson (Rivers of Hope)   Young Professional of the Year\n	Volunteer Award Winners: Dr. Carrie Collyard (Keystone Award)\, Shilo Klinkhammer (PACEsetter)\, and Chris Barta (Ambassador of the Year)\n\nCelebrate excellence\, connect with peers\, and be inspired by those shaping the future of our region through leadership\, service\, and community commitment.\n\nGather with fellow Chamber Members for lunch\, socializing and to celebrate this years Business & Volunteers of the Year award winners.\n\n\n\nMenu:\n\nChili with Beef & Beans (Gluten & Dairy Free)\, Shredded Cheese\, Sour Cream on the side\n\nChicken Wild Rice Soup (Contains Dairy)\n\nCustom Salad Bar with Chicken: Mixed Greens\, Chopped Chicken Breast\, Bacon Pieces\, Sliced Hard Boiled Egg\, Shredded Carrots\, Bell Peppers\, Cucumbers\, Cherry Tomatoes\, Sunflower Seeds\, Croutons.\n\nDressings: Ranch\, Italian\, Honey Mustard\, Balsamic Vinaigrette.\n\nCoffee & Water for Beverages.
X-ALT-DESC;FMTTYPE=text/html:<h4>Join us for the <strong>Elk River Area Chamber&rsquo\;s Annual Business &amp\; Volunteer Awards Luncheon</strong> as we celebrate outstanding businesses and community leaders who remind us that <em>Together We Shape Our Future</em>.<br />\nThis year&rsquo\;s honorees include:</h4>\n\n<ul>\n	<li><strong>LeFebvre Companies</strong> &ndash\; Large Business of the Year</li>\n	<li><strong>Hometown Electrical Services</strong> &ndash\; Small Business of the Year</li>\n	<li><strong>Riley &amp\; Associates</strong> &ndash\; Employer of the Year</li>\n	<li><strong>Henderson Home Painting</strong> &ndash\; New Business of the Year</li>\n	<li><strong>Hannah-Ruth Patterson (Rivers of Hope)</strong> &ndash\; Young Professional of the Year</li>\n	<li><strong>Volunteer Award Winners:</strong> Dr. Carrie Collyard (Keystone Award)\, Shilo Klinkhammer (PACEsetter)\, and Chris Barta (Ambassador of the Year)</li>\n</ul>\nCelebrate excellence\, connect with peers\, and be inspired by those shaping the future of our region through leadership\, service\, and community commitment.<br />\nGather with fellow Chamber Members for lunch\, socializing and to celebrate this years Business &amp\; Volunteers of the Year award winners.<br />\n<br />\nMenu:<br />\nChili with Beef &amp\; Beans (Gluten &amp\; Dairy Free)\, Shredded Cheese\, Sour Cream on the side<br />\nChicken Wild Rice Soup (Contains Dairy)<br />\nCustom Salad Bar with Chicken: Mixed Greens\, Chopped Chicken Breast\, Bacon Pieces\, Sliced Hard Boiled Egg\, Shredded Carrots\, Bell Peppers\, Cucumbers\, Cherry Tomatoes\, Sunflower Seeds\, Croutons.<br />\nDressings: Ranch\, Italian\, Honey Mustard\, Balsamic Vinaigrette.<br />\nCoffee &amp\; Water for Beverages.
LOCATION:Furniture and Things Event Center - Cafe (upstairs)
UID:e.32.32647
SEQUENCE:3
DTSTAMP:20260421T180244Z
URL:http://mobile.elkriverchamber.org/events/details/eracc-annual-business-awards-luncheon-32647
END:VEVENT

END:VCALENDAR
