BEGIN:VCALENDAR
VERSION:2.0
PRODID:-//ChamberMaster//Event Calendar 2.0//EN
METHOD:PUBLISH
X-PUBLISHED-TTL:P3D
REFRESH-INTERVAL:P3D
CALSCALE:GREGORIAN
BEGIN:VEVENT
DTSTART:20250814T153000Z
DTEND:20250814T161500Z
X-MICROSOFT-CDO-ALLDAYEVENT:FALSE
SUMMARY:Entertainment in the Park
DESCRIPTION:KidPower with Rachael\, featuring Rachael Kroog\, is a high-energy\, interactive\, entertaining\, and educational musical show. KidPower is the power to be kind.
X-ALT-DESC;FMTTYPE=text/html:KidPower with Rachael\, featuring Rachael Kroog\, is a high-energy\, interactive\, entertaining\, and educational musical show. KidPower is the power to be kind.
LOCATION:Woodland Trails Regional Park 20135 Elk Lake Rd\, Elk River\, MN 55330
UID:e.32.32408
SEQUENCE:3
DTSTAMP:20260421T154340Z
URL:http://mobile.elkriverchamber.org/events/details/entertainment-in-the-park-08-14-2025-32408
END:VEVENT

END:VCALENDAR
