BEGIN:VCALENDAR
VERSION:2.0
PRODID:-//ChamberMaster//Event Calendar 2.0//EN
METHOD:PUBLISH
X-PUBLISHED-TTL:P3D
REFRESH-INTERVAL:P3D
CALSCALE:GREGORIAN
BEGIN:VEVENT
DTSTART:20250731T153000Z
DTEND:20250731T161500Z
X-MICROSOFT-CDO-ALLDAYEVENT:FALSE
SUMMARY:Entertainment in the Park
DESCRIPTION:Trash to Treasures teaches kids about recycling by teaching them how to create a toy out of recycled materials. The program provides all the necessary materials and guides the kids in making a toy they can play with\, take home\, and keep having fun with.
X-ALT-DESC;FMTTYPE=text/html:Trash to Treasures teaches kids about recycling by teaching them how to create a toy out of recycled materials. The program provides all the necessary materials and guides the kids in making a toy they can play with\, take home\, and keep having fun with.
LOCATION:
UID:e.32.32406
SEQUENCE:3
DTSTAMP:20260421T141514Z
URL:http://mobile.elkriverchamber.org/events/details/entertainment-in-the-park-07-31-2025-32406
END:VEVENT

END:VCALENDAR
