BEGIN:VCALENDAR
VERSION:2.0
PRODID:-//ChamberMaster//Event Calendar 2.0//EN
METHOD:PUBLISH
X-PUBLISHED-TTL:P3D
REFRESH-INTERVAL:P3D
CALSCALE:GREGORIAN
BEGIN:VEVENT
DTSTART:20250621T140000Z
DTEND:20250621T200000Z
X-MICROSOFT-CDO-ALLDAYEVENT:FALSE
SUMMARY:Elk River Sportsman's Club - Youth Day
DESCRIPTION:Ages 16 and Under -\n\nA family-friendly\, safe environment to help introduce today's youth to firearms and firearm safety.\n\nLet's keep the traditions going!\n\n \n\nDetails:\n\n\nLearn to use...\n\n* SHOTGUNS *\n\n* ARCHERY *\n\n* RIFLES *\n\n* HANDGUNS *\n\n*BLACKPOWDER *\n\n \n\n*FREE APPETIZERS*\n\n \n\nALL AMMO AND\n\nFIREARMS ARE\n\nPROVIDED\n\n\n\nContact Bob White\n\nrtw59@hotmail.com\n\n612-867-4073
X-ALT-DESC;FMTTYPE=text/html:<div><span style="font-size:16px\;"><span style="font-family:arial\;">Ages 16 and Under -</span></span></div>\n\n<div><span style="font-size:16px\;"><span style="font-family:arial\;">A family-friendly\, safe environment&nbsp\;</span></span><span style="font-size:16px\;"><span style="font-family:arial\;">to help introduce today&rsquo\;s youth to&nbsp\;</span></span><span style="font-size:16px\;"><span style="font-family:arial\;">firearms and firearm safety.<br />\nLet&rsquo\;s&nbsp\;</span></span><span style="font-size:16px\;"><span style="font-family:arial\;">keep the traditions going!</span></span></div>\n\n<div>&nbsp\;</div>\n\n<div><span style="font-size:16px\;"><span style="font-family:arial\;">Details:</span></span></div>\n\n<div>\n<div><span style="font-size:16px\;"><span style="font-family:arial\;">Learn to use...</span></span></div>\n\n<div><span style="font-size:16px\;"><span style="font-family:arial\;">* SHOTGUNS *</span></span></div>\n\n<div><span style="font-size:16px\;"><span style="font-family:arial\;">* ARCHERY *</span></span></div>\n\n<div><span style="font-size:16px\;"><span style="font-family:arial\;">* RIFLES *</span></span></div>\n\n<div><span style="font-size:16px\;"><span style="font-family:arial\;">* HANDGUNS *</span></span></div>\n\n<div><span style="font-size:16px\;"><span style="font-family:arial\;">*BLACKPOWDER *</span></span><br />\n&nbsp\;</div>\n\n<div><span style="font-size:16px\;"><span style="font-family:arial\;">*FREE APPETIZERS*</span></span></div>\n\n<div>&nbsp\;</div>\n\n<div><span style="font-size:16px\;"><span style="font-family:arial\;">ALL AMMO AND</span></span></div>\n\n<div><span style="font-size:16px\;"><span style="font-family:arial\;">FIREARMS ARE</span></span></div>\n\n<div><span style="font-size:16px\;"><span style="font-family:arial\;">PROVIDED<br />\n<br />\nContact Bob White<br />\nrtw59@hotmail.com<br />\n612-867-4073</span></span></div>\n</div>\n
LOCATION:Elk River Sportsman's Club 20309 Meadowvale Road NW Elk River
UID:e.32.32550
SEQUENCE:3
DTSTAMP:20260419T202144Z
URL:http://mobile.elkriverchamber.org/events/details/elk-river-sportsman-s-club-youth-day-32550
END:VEVENT

END:VCALENDAR
