BEGIN:VCALENDAR
VERSION:2.0
PRODID:-//ChamberMaster//Event Calendar 2.0//EN
METHOD:PUBLISH
X-PUBLISHED-TTL:P3D
REFRESH-INTERVAL:P3D
CALSCALE:GREGORIAN
BEGIN:VEVENT
DTSTART:20250622T140000Z
DTEND:20250622T200000Z
X-MICROSOFT-CDO-ALLDAYEVENT:FALSE
SUMMARY:Elk River Sportsman's Club - Ladies Day
DESCRIPTION:Ladies\, ages 16 and Up! (under 18 must be accompanied by an adult)\n\n\n\nEver wanted to try to shoot a handgun or rifle? Curious about\n\nshooting archery? This is the event for you! Grab your friends and leave your husbands at home to learn\n\nabout firearms in a safe and unintimidating environment.\n\n \n\nDetails:\n\n\nLearn to use...\n\n* SHOTGUNS *\n\n* ARCHERY *\n\n* RIFLES *\n\n* HANDGUNS *\n\n*BLACKPOWDER *\n\n \n\n*FREE APPETIZERS*\n\n \n\nALL AMMO AND\n\nFIREARMS ARE\n\nPROVIDED\n\n\n\nContact Bob White\n\nrtw59@hotmail.com\n\n612-867-4073
X-ALT-DESC;FMTTYPE=text/html:<div><span style="font-size:16px\;"><span style="font-family:arial\;">Ladies\, ages 16 and Up! (under 18 must be accompanied by an adult)<br />\n<br />\nEver wanted to try to shoot a handgun or rifle? Curious about<br />\nshooting archery? This is the event for you! Grab your friends and leave your husbands at home to learn<br />\nabout firearms in a safe and unintimidating environment.</span></span></div>\n\n<div>&nbsp\;</div>\n\n<div><span style="font-size:16px\;"><span style="font-family:arial\;">Details:</span></span></div>\n\n<div>\n<div><span style="font-size:16px\;"><span style="font-family:arial\;">Learn to use...</span></span></div>\n\n<div><span style="font-size:16px\;"><span style="font-family:arial\;">* SHOTGUNS *</span></span></div>\n\n<div><span style="font-size:16px\;"><span style="font-family:arial\;">* ARCHERY *</span></span></div>\n\n<div><span style="font-size:16px\;"><span style="font-family:arial\;">* RIFLES *</span></span></div>\n\n<div><span style="font-size:16px\;"><span style="font-family:arial\;">* HANDGUNS *</span></span></div>\n\n<div><span style="font-size:16px\;"><span style="font-family:arial\;">*BLACKPOWDER *</span></span><br />\n&nbsp\;</div>\n\n<div><span style="font-size:16px\;"><span style="font-family:arial\;">*FREE APPETIZERS*</span></span></div>\n\n<div>&nbsp\;</div>\n\n<div><span style="font-size:16px\;"><span style="font-family:arial\;">ALL AMMO AND</span></span></div>\n\n<div><span style="font-size:16px\;"><span style="font-family:arial\;">FIREARMS ARE</span></span></div>\n\n<div><span style="font-size:16px\;"><span style="font-family:arial\;">PROVIDED<br />\n<br />\nContact Bob White<br />\nrtw59@hotmail.com<br />\n612-867-4073</span></span></div>\n</div>\n
LOCATION:Elk River Sportsman's Club 20309 Meadowvale Road NW Elk River
UID:e.32.32551
SEQUENCE:3
DTSTAMP:20260419T150413Z
URL:http://mobile.elkriverchamber.org/events/details/elk-river-sportsman-s-club-ladies-day-32551
END:VEVENT

END:VCALENDAR
