BEGIN:VCALENDAR
VERSION:2.0
PRODID:-//ChamberMaster//Event Calendar 2.0//EN
METHOD:PUBLISH
X-PUBLISHED-TTL:P3D
REFRESH-INTERVAL:P3D
CALSCALE:GREGORIAN
BEGIN:VEVENT
DTSTART:20251122T200000Z
DTEND:20251122T220000Z
X-MICROSOFT-CDO-ALLDAYEVENT:FALSE
SUMMARY:Elk River High School Presents Harry Potter and the Cursed Child
DESCRIPTION:Nineteen years after Harry\, Ron\, and Hermione saved the wizarding world\, they?re back on a most extraordinary new adventure ? this time\, joined by a brave new generation that has only just arrived at the legendary Hogwarts School of Witchcraft and Wizardry. When Harry Potter?s head-strong son Albus befriends the son of his fiercest rival\, Draco Malfoy\, it sparks an unbelievable new journey for them all?with the power to change the past and future forever. Prepare for spectacular spells\, a mind-blowing race through time\, and an epic battle to stop mysterious forces\, all while the future hangs in the balance.
X-ALT-DESC;FMTTYPE=text/html:<span style="font-size:16px\;"><span style="font-family:arial\;">Nineteen years after Harry\, Ron\, and Hermione saved the wizarding world\, they?re back on a most extraordinary new adventure ? this time\, joined by a brave new generation that has only just arrived at the legendary Hogwarts School of Witchcraft and Wizardry. When Harry Potter?s head-strong son Albus befriends the son of his fiercest rival\, Draco Malfoy\, it sparks an unbelievable new journey for them all?with the power to change the past and future forever. Prepare for spectacular spells\, a mind-blowing race through time\, and an epic battle to stop mysterious forces\, all while the future hangs in the balance.</span></span>
LOCATION:Elk River High School 900 School St Elk River\, MN\, 55330 Door A
UID:e.32.32802
SEQUENCE:3
DTSTAMP:20260421T211927Z
URL:http://mobile.elkriverchamber.org/events/details/elk-river-high-school-presents-harry-potter-and-the-cursed-child-11-22-2025-32802
END:VEVENT

END:VCALENDAR
