BEGIN:VCALENDAR
VERSION:2.0
PRODID:-//ChamberMaster//Event Calendar 2.0//EN
METHOD:PUBLISH
X-PUBLISHED-TTL:P3D
REFRESH-INTERVAL:P3D
CALSCALE:GREGORIAN
BEGIN:VEVENT
DTSTART:20080925T220000Z
DTEND:20080926T020000Z
X-MICROSOFT-CDO-ALLDAYEVENT:FALSE
SUMMARY:ELK RIVER AREA CHAMBER OF COMMERCE ANNUAL DINNER & AUCTION
DESCRIPTION:Live music sets the tone for the Elk River Area Chamber of Commerce 41st Annual Dinner and Auction.This year\, we invite you to a very special President's Reception to welcome our new President\, Debbi Rydberg. \n\nThe evening is highlighted by the fun of the silent and live auctions. As always\, spouses\, employees\, and guests are welcome.Become a One-derful Table Sponsor and your guests will enjoy special benefits\, available to sponsors only.One-derful Table Sponsor - $650Dinner tickets for 10\nPriority dinner service\nSponsorship signage at your table\nAcknowledgment in the printed program\nSpecial recognition at the event\nAlways a surprise or two
X-ALT-DESC;FMTTYPE=text/html:<div><font face="Tahoma" size="2"><p>Live music sets the tone for the Elk River Area Chamber of Commerce 41st Annual Dinner and Auction.</p><p>This year\, we invite you to a very special President&rsquo\;s Reception to welcome our new President\, Debbi Rydberg.&nbsp\;<br /><br />The evening is highlighted by the fun of the silent and live auctions. As always\, spouses\, employees\, and guests are welcome.</p><p>Become a One-derful Table Sponsor and your guests will enjoy special benefits\, available to sponsors only.</p><strong><p align="center">One-derful Table Sponsor - $650</p></strong><p align="center">Dinner tickets for 10<br />Priority dinner service<br />Sponsorship signage at your table<br />Acknowledgment in the printed program<br />Special recognition at the event<br />Always a surprise or two</p></font></div>
LOCATION:The Crown Room at the Wellstead of Rogers20600 Diamond Lake Road
UID:e.32.1679
SEQUENCE:3
DTSTAMP:20260421T111415Z
URL:http://mobile.elkriverchamber.org/events/details/elk-river-area-chamber-of-commerce-annual-dinner-auction-09-25-2008-1679
END:VEVENT

END:VCALENDAR
