BEGIN:VCALENDAR
VERSION:2.0
PRODID:-//ChamberMaster//Event Calendar 2.0//EN
METHOD:PUBLISH
X-PUBLISHED-TTL:P3D
REFRESH-INTERVAL:P3D
CALSCALE:GREGORIAN
BEGIN:VEVENT
DTSTART:20251029T230000Z
DTEND:20251030T003000Z
X-MICROSOFT-CDO-ALLDAYEVENT:FALSE
SUMMARY:Creative Kids Academy Trunk or Treat
DESCRIPTION:Come join us for a fun night of trick or treating in the parking lot of Creative Kids Academy Zimmerman.\n\nLocated at 13160 Fremont Ave.\, next door to Casey's.\n\nDo not let the road construction scare you away
X-ALT-DESC;FMTTYPE=text/html:Come join us for a fun night of trick or treating in the parking lot of Creative Kids Academy Zimmerman.<br />\nLocated at 13160 Fremont Ave.\, next door to Casey&#39\;s.<br />\nDo not let the road construction scare you away
LOCATION:13160 Fremont Ave\, Zimmerman
UID:e.32.32805
SEQUENCE:3
DTSTAMP:20260421T175516Z
URL:http://mobile.elkriverchamber.org/events/details/creative-kids-academy-trunk-or-treat-32805
END:VEVENT

END:VCALENDAR
