BEGIN:VCALENDAR
VERSION:2.0
PRODID:-//ChamberMaster//Event Calendar 2.0//EN
METHOD:PUBLISH
X-PUBLISHED-TTL:P3D
REFRESH-INTERVAL:P3D
CALSCALE:GREGORIAN
BEGIN:VEVENT
DTSTART:20250807T160000Z
DTEND:20250807T230000Z
X-MICROSOFT-CDO-ALLDAYEVENT:FALSE
SUMMARY:Covenant Christian Academy to Host Open House at New Big Lake Campus
DESCRIPTION:Covenant Christian Academy\, a brand new classical Christian school invites local families to tour its newly constructed campus during a community wide open house on August 7\, 11 AM to 6 PM.\n\n\n\nYou will have the opportunity to meet staff\, explore classrooms\, hear the vision behind the school\, and learn more about enrollment for the 2025?2026 school year.\n\n\n\nCovenant Christian Academy is currently enrolling students in kindergarten - 5th grade and has committed to providing an academically excellent and Christ centered education. The new facility was designed with intentional spaces for learning\, worship\, play\, and community. Staff will be on site throughout the event to answer a question and sharing how God is already at work through this new school.
X-ALT-DESC;FMTTYPE=text/html:<span style="font-size:16px\;"><span style="font-family:arial\;"><span style="color: rgb(34\, 34\, 34)\; background-color: rgb(255\, 255\, 255)\;">Covenant Christian Academy\, a brand new classical Christian school invites local families to tour its newly constructed campus during a community wide open house on August 7\, 11 AM to 6 PM.<br>\n<br>\nYou&nbsp\;will have the opportunity to meet staff\, explore classrooms\, hear the vision behind the school\, and learn more about enrollment for the 2025?2026 school year.<br>\n<br>\nCovenant Christian Academy is currently enrolling students in kindergarten - 5th grade and has committed to providing an academically excellent and Christ centered education. The new facility was designed with intentional spaces for learning\, worship\, play\, and community. Staff will be on site throughout the event to answer a question and sharing how God is already at work through this new school.</span></span></span>
LOCATION:Covenant Christian Academy 1246 Minnesota Ave Big Lake
UID:e.32.32652
SEQUENCE:3
DTSTAMP:20260421T155609Z
URL:http://mobile.elkriverchamber.org/events/details/covenant-christian-academy-to-host-open-house-at-new-big-lake-campus-32652
END:VEVENT

END:VCALENDAR
