BEGIN:VCALENDAR
VERSION:2.0
PRODID:-//ChamberMaster//Event Calendar 2.0//EN
METHOD:PUBLISH
X-PUBLISHED-TTL:P3D
REFRESH-INTERVAL:P3D
CALSCALE:GREGORIAN
BEGIN:VEVENT
DTSTART:20251023T210000Z
DTEND:20251024T003000Z
X-MICROSOFT-CDO-ALLDAYEVENT:FALSE
SUMMARY:COOL JOBS TOUR 2025
DESCRIPTION:Today's manufacturing careers are about advanced technologies\, state of the art facilities\, and fast paced\, interesting work environments. But most of all\, these technical careers are about those people who like to see the product of a honest day's work.\n\nJoin us to tour local manufacturers businesses and see for yourself the . . .\n\n\n	variety of career opportunities available at local companies (wages\, job skills\, responsibilities)\n	pathways to building the knowledge and skills needed to qualify for today's manufacturing jobs\n	purpose and value of the modern manufacturing companies located in our community\n\n\n\nThis evening of career exploration is set up for community members\, middle and high school students and their parents. Tour up to three state of the art manufacturer's and complete your evening with a light meal and information on careers\, training\, wages and opportunities.\n\n\n\nLocations to tour (must provide your own transportation)\n\n\n\nSportech - 10752 168th Ave NW\, Elk River\, MN 55330   door 58\n\nAlliance Machine - 17520 Tyler Street NW Elk River\, MN 55330  \n\n\nTimron - 19231 Industrial Blvd. Elk River\, MN 55330\n\nMetal Craft - 13760 Business Ctr Dr NW\, Elk River\, MN\n\n\n\n\n\n4:00 pm - 4:45 pm Choose between (Sportech or Alliance Machine)\n\n5:00 pm - 5:45 pm Choose between (Timron or Alliance Machine)\n\n6:00 pm - 7:30 pm Metal Craft for a tour\, light meal and a presentation on careers & training in manufacturing. \n\n\n\nSafety Requirements: All attendees must \n\n\n	be at least 11 years-old \n	wear closed toed shoes\n	wear safety glasses (provided)\n\n You will be responsible for your own transportation.\n\n\n\nMore about our host locations:\n\n\n	Metal Craft was established in 1978. Jack Mowry started the company in the small suburb of Elk River. The company is an expert in the precision machining of medical devices. In 1996\, Jack purchased a division of Cray Research in Wisconsin\, which was known for brazements. This expanded the operations to precision machining products for the military and aerospace industries. The company has approximately 155 employees with 2 shifts. They are a leader in providing custom precision manufacturing for aerospace\, defense\, medical and emerging high-tech industries\, dedicated to quality\, service\, innovation\, and people.\n	Sportech is a recognized leader in the design\, development and manufacturing of vehicle cab components and systems primarily for the powersports\, golf and turf\, industrial and agricultural markets. We know that innovation doesn't happen in isolation. Sportech collaborates throughout the entire product development process to discover\, design\, develop and deliver creative solutions and value creation for our partners. We work with the brands that make the machines you love!\n	Timron is a family owned and operated gear manufacturer. We cut the gear teeth on the parts\, finish grinding the bearing journals and do the inspection to customer prints. We specialize in high-precision gears and gear assemblies for the aerospace industry. \n	Alliance Machine has become a leader in precision\, tight tolerance\, machining serving the aerospace\, defense\, medical industries\, and more. At the heart of our operations is a dedicated team of skilled machinists and engineers\, committed to continuous improvement and innovations.
X-ALT-DESC;FMTTYPE=text/html:<h4><span style="font-size:16px\;"><span style="font-family:arial\;"><em>Today&#39\;s manufacturing&nbsp\;careers are&nbsp\;about advanced technologies\,&nbsp\;state of the art facilities\, and fast paced\, interesting work&nbsp\;environments. But most of all\, these technical careers are&nbsp\;about&nbsp\;those people who like to see the product of a honest day&#39\;s&nbsp\;work.</em></span></span></h4>\n\n<h4><span style="font-size:16px\;"><span style="font-family:arial\;"><u><strong>Join us to tour local manufacturers businesses and see for yourself the . . .</strong></u></span></span></h4>\n\n<ul>\n	<li><span style="font-size:16px\;"><span style="font-family:arial\;">variety of career opportunities available at local&nbsp\;companies (wages\, job skills\, responsibilities)</span></span></li>\n	<li><span style="font-size:16px\;"><span style="font-family:arial\;">pathways to building the knowledge and skills&nbsp\;needed to qualify for today&#39\;s manufacturing jobs</span></span></li>\n	<li><span style="font-size:16px\;"><span style="font-family:arial\;">purpose and value of the modern manufacturing&nbsp\;companies located in our community</span></span></li>\n</ul>\n<br />\n<span style="font-size:16px\;"><span style="font-family:arial\;">This evening of career exploration is set up for community members\, middle and high school students and their parents. Tour up to three state of the art manufacturer&#39\;s and complete your evening with a light meal and information on careers\, training\, wages and opportunities.<br />\n<br />\nLocations to tour (must provide your own transportation)<br />\n<br />\nSportec</span>h -<span style="font-family:arial\;">&nbsp\;<span style="color: rgb(34\, 34\, 34)\; background-color: rgb(255\, 255\, 255)\;">10752 168</span><sup style="color: rgb(34\, 34\, 34)\; font-family: &quot\;Proxima Nova Light&quot\;\, serif\; background-color: rgb(255\, 255\, 255)\;">th</sup><span style="color: rgb(34\, 34\, 34)\; background-color: rgb(255\, 255\, 255)\;">&nbsp\;Ave NW\, Elk River\, MN 55330 &ndash\; door 58</span><br />\nAlliance Machine&nbsp\;-&nbsp\;17520 Tyler Street NW&nbsp\;Elk River\, MN 55330&nbsp\;&nbsp\;</span></span>\n\n<div style="color: rgb(34\, 34\, 34)\; font-family: Arial\, Helvetica\, sans-serif\; font-size: small\; background-color: rgb(255\, 255\, 255)\;">\n<div class="gmail_default" style="font-family: tahoma\, sans-serif\;"><span style="font-size:16px\;"><span style="font-family:arial\;">Timron -&nbsp\;19231 Industrial Blvd.&nbsp\;Elk River\, MN 55330<br />\nMetal Craft -&nbsp\;<span style="background-color: rgb(255\, 255\, 255)\;">13760 Business Ctr Dr NW\, Elk River\, MN</span></span></span></div>\n</div>\n<br />\n<br />\n<span style="font-size:16px\;"><span style="font-family:arial\;"><strong><em>4:00 pm - 4:45 pm</em></strong>&nbsp\;Choose between (Sportech or Alliance Machine)<br />\n<em><strong>5:00 pm - 5:45 pm</strong></em>&nbsp\;Choose between (Timron or Alliance Machine)<br />\n<em><strong>6:00 pm - 7:30 pm</strong></em>&nbsp\;Metal Craft for a tour\, light meal and a presentation on careers &amp\; training in manufacturing.&nbsp\;<br />\n<br />\n<em><strong>Safety Requirements: All attendees must </strong></em></span></span>\n\n<ul>\n	<li><span style="font-size:16px\;"><span style="font-family:arial\;"><em><strong>be at least 11 years-old </strong></em></span></span></li>\n	<li><span style="font-size:16px\;"><span style="font-family:arial\;"><em><strong>wear closed toed shoes</strong></em></span></span></li>\n	<li><span style="font-size:16px\;"><span style="font-family:arial\;"><em><strong>wear safety glasses (provided)</strong></em></span></span></li>\n</ul>\n<span style="font-size:16px\;"><span style="font-family:arial\;"> <em><strong><u>You will be responsible for your own transportation.<br />\n<br />\nMore about our host locations:</u></strong></em></span></span>\n\n<ul style="color: rgb(32\, 31\, 30)\; font-family: tahoma\, sans-serif\, serif\, EmojiFont\; font-size: small\;">\n	<li><span style="font-size:16px\;"><span style="font-family:arial\;"><strong><a href="https://mcandrs.com/">Metal Craft</a> </strong>was established in 1978. Jack Mowry started the company in the small suburb of Elk River.&nbsp\;The company is an expert in the precision machining of medical devices. In 1996\, Jack purchased a division of Cray Research in Wisconsin\, which was known for brazements. This expanded the operations to precision machining products for the military and aerospace industries. The company has approximately 155 employees with 2 shifts. They are&nbsp\;<span style="color: rgb(35\, 31\, 32)\; background-color: rgb(255\, 255\, 255)\;">a leader in providing custom precision manufacturing for aerospace\, defense\, medical and emerging high-tech industries\, dedicated to quality\, service\, innovation\, and people.</span></span></span></li>\n	<li><span style="font-size:16px\;"><span style="font-family:arial\;"><a href="https://www.sportechinc.com/"><strong>Sportech</strong></a> is a recognized leader in the design\, development and&nbsp\;manufacturing of vehicle cab&nbsp\;components and systems primarily for the powersports\, golf and turf\, industrial and agricultural markets. We know that innovation doesn&#39\;t happen in isolation. Sportech collaborates throughout the entire product development process to discover\, design\, develop and deliver creative solutions and value creation for our partners. We&nbsp\;work with the brands that&nbsp\;make the machines you love!</span></span></li>\n	<li><span style="font-size:16px\;"><span style="font-family:arial\;"><a href="https://timrongear.com/"><strong>Timron</strong></a> is a family owned and operated gear manufacturer. We&nbsp\;cut the gear teeth on the parts\, finish grinding the bearing journals and do the inspection to customer prints. We specialize in high-precision gears and gear assemblies for the aerospace industry.&nbsp\;</span></span></li>\n	<li><span style="font-size:16px\;"><span style="font-family:arial\;"><a href="http://www.alliancemachine.com"><strong>Alliance Machine</strong></a> has become a leader in precision\, tight tolerance\, machining serving the aerospace\, defense\, medical industries\, and more. At the heart of our operations is a dedicated team of skilled machinists and engineers\, committed to continuous improvement and innovations.</span></span></li>\n</ul>\n
LOCATION:Register for up to three tours\, including final presentation with light meal.
UID:e.32.32674
SEQUENCE:3
DTSTAMP:20260421T195050Z
URL:http://mobile.elkriverchamber.org/events/details/cool-jobs-tour-2025-32674
END:VEVENT

END:VCALENDAR
