BEGIN:VCALENDAR
VERSION:2.0
PRODID:-//ChamberMaster//Event Calendar 2.0//EN
METHOD:PUBLISH
X-PUBLISHED-TTL:P3D
REFRESH-INTERVAL:P3D
CALSCALE:GREGORIAN
BEGIN:VEVENT
DTSTART:20260521T210000Z
DTEND:20260521T223000Z
X-MICROSOFT-CDO-ALLDAYEVENT:FALSE
SUMMARY:COMMUNITY LEADERSHIP GRADUATION RECEPTION
DESCRIPTION:Join us as we celebrate the Leadership Elk River Class of 2026! This casual afternoon reception is a chance to congratulate this year's graduates\, connect with local leaders\, and reflect on the power of community leadership.\n\nEnjoy light appetizers\, a cash bar\, and great conversation with fellow Chamber members\, alumni of the program\, supervisors\, coworkers\, and community supporters.\n\nLet's toast the future leaders of Elk River!\n\n\n\nGraduates meet earlier from 1-4\n\nReception Open to All starts at 4-5:30pm
X-ALT-DESC;FMTTYPE=text/html:<p data-end="627" data-start="401">Join us as we celebrate the Leadership Elk River Class of 2026! This casual afternoon reception is a chance to congratulate this year&rsquo\;s graduates\, connect with local leaders\, and reflect on the power of community leadership.</p>\n\n<p data-end="789" data-start="629">Enjoy light appetizers\, a cash bar\, and great conversation with fellow Chamber members\, alumni of the program\, supervisors\, coworkers\, and community supporters.</p>\n\n<p data-end="835" data-start="791">Let&rsquo\;s toast the future leaders of Elk River!<br />\n<br />\nGraduates meet earlier from 1-4<br />\nReception Open to All starts at 4-5:30pm</p>\n
LOCATION:Granite Shores Community Room 633 Main St. NW\, Elk River
UID:e.32.33329
SEQUENCE:3
DTSTAMP:20260421T030101Z
URL:http://mobile.elkriverchamber.org/events/details/community-leadership-graduation-reception-33329
END:VEVENT

END:VCALENDAR
