BEGIN:VCALENDAR
VERSION:2.0
PRODID:-//ChamberMaster//Event Calendar 2.0//EN
METHOD:PUBLISH
X-PUBLISHED-TTL:P3D
REFRESH-INTERVAL:P3D
CALSCALE:GREGORIAN
BEGIN:VEVENT
DTSTART:20260106T150000Z
DTEND:20260106T160000Z
X-MICROSOFT-CDO-ALLDAYEVENT:FALSE
SUMMARY:Coffee with Crime Prevention Specialist-Officer Garcia
DESCRIPTION:Grab a cup of coffee and join our Crime Prevention Specialist for an informal conversation about keeping our community safe. Bring your questions! Donuts will be served. Register by Jan. 5 by calling 763-635-1150. Free for Senior Center Members.
X-ALT-DESC;FMTTYPE=text/html:<span style="font-size:16px\;"><span style="font-family:arial\;"><span style="color: rgb(34\, 34\, 34)\; background-color: rgb(255\, 255\, 255)\;">Grab a cup of coffee and join our Crime Prevention Specialist for an informal conversation about keeping our community safe. Bring your questions! Donuts will be served. Register by Jan. 5 by calling 763-635-1150. Free for Senior Center Members.</span></span></span>
LOCATION:Elk River Senior Activity Center 1000 School St. Elk River
UID:e.32.33053
SEQUENCE:3
DTSTAMP:20260422T010356Z
URL:http://mobile.elkriverchamber.org/events/details/coffee-with-crime-prevention-specialist-officer-garcia-33053
END:VEVENT

END:VCALENDAR
