BEGIN:VCALENDAR
VERSION:2.0
PRODID:-//ChamberMaster//Event Calendar 2.0//EN
METHOD:PUBLISH
X-PUBLISHED-TTL:P3D
REFRESH-INTERVAL:P3D
CALSCALE:GREGORIAN
BEGIN:VEVENT
DTSTART:20250724T190000Z
DTEND:20250724T230000Z
X-MICROSOFT-CDO-ALLDAYEVENT:FALSE
SUMMARY:Christmas in July Downtown Elk River
DESCRIPTION:Join the Elk River Rotary Club for Christmas in July downtown Elk River from 2-6 p.m.! \n\nSpin to win tickets to the Taste of Elk River! We will be located right behind the big red chair!
X-ALT-DESC;FMTTYPE=text/html:Join the Elk River Rotary Club for Christmas in July downtown Elk River from 2-6 p.m.!&nbsp\;<br />\nSpin to win tickets to the Taste of Elk River! We will be located right behind the big red chair!&nbsp\;
LOCATION:Downtown Elk River (behind the Big Red Chair)
UID:e.32.32659
SEQUENCE:3
DTSTAMP:20260421T141413Z
URL:http://mobile.elkriverchamber.org/events/details/christmas-in-july-downtown-elk-river-32659
END:VEVENT

END:VCALENDAR
