BEGIN:VCALENDAR
VERSION:2.0
PRODID:-//ChamberMaster//Event Calendar 2.0//EN
METHOD:PUBLISH
X-PUBLISHED-TTL:P3D
REFRESH-INTERVAL:P3D
CALSCALE:GREGORIAN
BEGIN:VEVENT
DTSTART:20260129T150000Z
DTEND:20260129T160000Z
X-MICROSOFT-CDO-ALLDAYEVENT:FALSE
SUMMARY:CHAMBER 101
DESCRIPTION:New to the Chamber\, or curious about your membership and how to make the most of it? Maybe you've been a member for awhile and are now ready to dive back in and reconnect?\n\nChamber 101 is the perfect place to start!\n\nThis session is designed to help you get to know your Chamber on a deeper level\, from programs and events to tools and opportunities that can grow your business and expand your network. You'll learn how to manage your online account\, discover ways to get involved that match your interests\, and most importantly\, start building a strong partnership with us and other members. Whether you're brand new or simply looking to re-engage\, Chamber 101 will set you on the path to getting the most out of your membership.
X-ALT-DESC;FMTTYPE=text/html:<b>New to the Chamber\, or curious about your membership and how to make the most of it? Maybe you&#39\;ve been a member for awhile and are now ready to dive back in and reconnect?<br />\nChamber 101 is the perfect place to start!<br />\nThis session is designed to help you get to know your Chamber on a deeper level\, from programs and events to tools and opportunities that can grow your business and expand your network. You&#39\;ll learn how to manage your online account\, discover ways to get involved that match your interests\, and most importantly\, start building a strong partnership with us and other members. Whether you&#39\;re brand new or simply looking to re-engage\, Chamber 101 will set you on the path to getting the most out of your membership.</b>
LOCATION:Elk River Area Chamber of Commerce 509 Hwy10\, Elk River Conference room - lower door off the main parking lot
UID:e.32.33058
SEQUENCE:3
DTSTAMP:20260422T005311Z
URL:http://mobile.elkriverchamber.org/events/details/chamber-101-33058
END:VEVENT

END:VCALENDAR
