BEGIN:VCALENDAR
VERSION:2.0
PRODID:-//ChamberMaster//Event Calendar 2.0//EN
METHOD:PUBLISH
X-PUBLISHED-TTL:P3D
REFRESH-INTERVAL:P3D
CALSCALE:GREGORIAN
BEGIN:VEVENT
DTSTART:20251102T150000Z
DTEND:20251102T173000Z
X-MICROSOFT-CDO-ALLDAYEVENT:FALSE
SUMMARY:Breakfast with the Riders and SAL @ ER American Legion
DESCRIPTION:Come and enjoy a pancake breakfast @ the American Legion\, Post 112.\n\nProceeds will support the Elk River High School Trap Team.
X-ALT-DESC;FMTTYPE=text/html:<span style="font-size:16px\;"><span style="font-family:arial\;">Come and enjoy a pancake breakfast @ the American Legion\, Post 112.<br />\nProceeds will support the Elk River High School Trap Team.</span></span>
LOCATION:The American Legion Post 112 525 Rail Road Drive Elk River
UID:e.32.32787
SEQUENCE:3
DTSTAMP:20260421T195301Z
URL:http://mobile.elkriverchamber.org/events/details/breakfast-with-the-riders-and-sal-er-american-legion-32787
END:VEVENT

END:VCALENDAR
