BEGIN:VCALENDAR
VERSION:2.0
PRODID:-//ChamberMaster//Event Calendar 2.0//EN
METHOD:PUBLISH
X-PUBLISHED-TTL:P3D
REFRESH-INTERVAL:P3D
CALSCALE:GREGORIAN
BEGIN:VEVENT
DTSTART:20251102T170000Z
DTEND:20251103T030000Z
X-MICROSOFT-CDO-ALLDAYEVENT:FALSE
SUMMARY:Beyond the Yellow Ribbon - Veterans Benefit Event
DESCRIPTION:A day of celebrating our Veterans and active military while supporting Beyond the Yellow Ribbon. Limited infusion\, food truck\, Vikings football\, live music\, themed trivia and the launch of our pay it forward beer program.
X-ALT-DESC;FMTTYPE=text/html:<span style="font-size:16px\;"><span style="font-family:arial\;"><span style="color: rgb(8\, 8\, 9)\; background-color: rgb(255\, 255\, 255)\;">A day of celebrating our Veterans and active military while supporting Beyond the Yellow Ribbon. Limited infusion\, food truck\, Vikings football\, live music\, themed trivia and the launch of our pay it forward beer program.</span></span></span>
LOCATION:Aegir Brewing Company 19050 Industrial Blvd. Elk River
UID:e.32.32794
SEQUENCE:3
DTSTAMP:20260421T194938Z
URL:http://mobile.elkriverchamber.org/events/details/beyond-the-yellow-ribbon-veterans-benefit-event-32794
END:VEVENT

END:VCALENDAR
