BEGIN:VCALENDAR
VERSION:2.0
PRODID:-//ChamberMaster//Event Calendar 2.0//EN
METHOD:PUBLISH
X-PUBLISHED-TTL:P3D
REFRESH-INTERVAL:P3D
CALSCALE:GREGORIAN
BEGIN:VEVENT
DTSTART:20260210T174500Z
DTEND:20260210T190000Z
X-MICROSOFT-CDO-ALLDAYEVENT:FALSE
SUMMARY:BETTER MINDS\, BETTER BUSINESS | Lunch | Wired for Survival: Resilient by Choice
DESCRIPTION:Better Minds\, Better Business - Lunch\n\nSpeaker: Diane P. Lynch Resilience Coaching\, Training and Facilitation \nWired for Survival: Resilient by Choice\n\nis a practical\, science-informed one-hour workshop that helps participants understand what's happening in their brains and bodies when stress peaks\, priorities collide\, and emotions flare.\n\nParticipants will learn why overwhelm makes clear thinking harder\, how fight or flight escalates as a protective survival response\, and how to recognize early "body wisdom" cues before reactions take over. \n\nImmediately usable regulation tools will be demonstrated to help decode internal signals\, reduce cognitive overload and prevent future overwhelm.
X-ALT-DESC;FMTTYPE=text/html:<span style="color:#000000\;">Better Minds\, Better Business - Lunch<br />\nSpeaker: Diane P. Lynch Resilience Coaching\, Training and Facilitation&nbsp\;</span>\n<p class="cvGsUA direction-ltr align-start para-style-body" style="color: rgba(255\,255\,255\,var(--O42jJQ\,1))\; caret-color: rgb(255\, 255\, 255)\; --8sD0Kg: none\; font-family: YAD1aU3sLnI_0\, _fb_\, auto\; --cyV3ZQ: 24.9432px\; --gJPlXQ: 1.05\; letter-spacing: -0.021em\; --s8NbEA: p\; line-height: 26px\;"><span style="color:#000000\;"><span class="a_GcMg font-feature-liga-off font-feature-clig-off font-feature-calt-off text-decoration-none text-strikethrough-none" style="--Ys-XuQ: none\; font-weight: 700\; font-kerning: none\;">Wired for Survival: Resilient by Choice</span></span></p>\n\n<p class="cvGsUA direction-ltr align-start para-style-body" style="color: rgba(255\,255\,255\,var(--O42jJQ\,1))\; caret-color: rgb(255\, 255\, 255)\; --8sD0Kg: none\; font-family: YAD1aU3sLnI_0\, _fb_\, auto\; --cyV3ZQ: 16.6667px\; --gJPlXQ: 1.05\; letter-spacing: 0.037em\; --s8NbEA: p\; line-height: 17px\;"><span style="color:#000000\;"><span class="a_GcMg font-feature-liga-off font-feature-clig-off font-feature-calt-off text-decoration-none text-strikethrough-none" style="--Ys-XuQ: none\; font-kerning: none\;">is a practical\, science-informed one-hour workshop that helps participants understand what&rsquo\;s happening in their brains and bodies when stress peaks\, priorities collide\, and emotions flare.</span></span></p>\n\n<p class="cvGsUA direction-ltr align-start para-style-body" style="color: rgba(255\,255\,255\,var(--O42jJQ\,1))\; caret-color: rgb(255\, 255\, 255)\; --8sD0Kg: none\; font-family: YAD1aU3sLnI_0\, _fb_\, auto\; --cyV3ZQ: 16.6667px\; --gJPlXQ: 1.05\; letter-spacing: 0.037em\; --s8NbEA: p\; line-height: 17px\;"><span style="color:#000000\;"><span class="a_GcMg font-feature-liga-off font-feature-clig-off font-feature-calt-off text-decoration-none text-strikethrough-none" style="--Ys-XuQ: none\; font-kerning: none\;">Participants will learn why overwhelm makes clear thinking harder\, how fight or flight escalates as a protective survival response\, and how to recognize early &ldquo\;body wisdom&rdquo\; cues before reactions take over.</span><span class="a_GcMg font-feature-liga-off font-feature-clig-off font-feature-calt-off text-decoration-none text-strikethrough-none white-space-prewrap" style="--Ys-XuQ: none\; font-kerning: none\;"> </span></span></p>\n\n<p class="cvGsUA direction-ltr align-start para-style-body" style="color: rgba(255\,255\,255\,var(--O42jJQ\,1))\; caret-color: rgb(255\, 255\, 255)\; --8sD0Kg: none\; font-family: YAD1aU3sLnI_0\, _fb_\, auto\; --cyV3ZQ: 16.6667px\; --gJPlXQ: 1.05\; letter-spacing: 0.037em\; --s8NbEA: p\; line-height: 17px\;"><span style="color:#000000\;"><span class="a_GcMg font-feature-liga-off font-feature-clig-off font-feature-calt-off text-decoration-none text-strikethrough-none" style="--Ys-XuQ: none\; font-kerning: none\;">Immediately usable regulation tools will be demonstrated to help decode internal signals\, reduce cognitive overload and prevent future overwhelm.</span></span></p>\n
LOCATION:Sherburne County Government Center 13880 Business Center Drive\, NW\, Elk River\, MN
UID:e.32.32993
SEQUENCE:3
DTSTAMP:20260422T025608Z
URL:http://mobile.elkriverchamber.org/events/details/better-minds-better-business-lunch-wired-for-survival-resilient-by-choice-32993
END:VEVENT

END:VCALENDAR
