BEGIN:VCALENDAR
VERSION:2.0
PRODID:-//ChamberMaster//Event Calendar 2.0//EN
METHOD:PUBLISH
X-PUBLISHED-TTL:P3D
REFRESH-INTERVAL:P3D
CALSCALE:GREGORIAN
BEGIN:VEVENT
DTSTART:20250704T030000Z
DTEND:20250704T033000Z
X-MICROSOFT-CDO-ALLDAYEVENT:FALSE
SUMMARY:Anoka Fireworks
DESCRIPTION:Join Anoka for its 27th Annual Fireworks display as we celebrate Independence Day. Fireworks will light up the night sky at 10 p.m.
X-ALT-DESC;FMTTYPE=text/html:<span style="font-size:16px\;"><span style="font-family:arial\;"><span style="background-color: rgb(255\, 255\, 255)\;">Join Anoka for its 27th Annual Fireworks display as we celebrate Independence Day. Fireworks will light up the night sky at 10 p.m.</span></span></span>
LOCATION:Anoka High School 600 Castle Field Blvd Anoka
UID:e.32.32617
SEQUENCE:3
DTSTAMP:20260421T141045Z
URL:http://mobile.elkriverchamber.org/events/details/anoka-fireworks-32617
END:VEVENT

END:VCALENDAR
