BEGIN:VCALENDAR
VERSION:2.0
PRODID:-//ChamberMaster//Event Calendar 2.0//EN
METHOD:PUBLISH
X-PUBLISHED-TTL:P3D
REFRESH-INTERVAL:P3D
CALSCALE:GREGORIAN
BEGIN:VEVENT
DTSTART:20250927T150000Z
DTEND:20250927T190000Z
X-MICROSOFT-CDO-ALLDAYEVENT:FALSE
SUMMARY:Annual Wildlife Festival
DESCRIPTION:Sherburne National Wildlife Refuge and the Friends of Sherburne invite the public of all ages to the annual Wildlife Festival on Saturday\, September 27\, from 10:00 a.m. to 2:00 p.m. at the Oak Savanna Learning Center. This free\, family-friendly event is open to all ages and features engaging booths\, hands-on activities and opportunities to explore the refuge.\n\nIn addition\, several refuge service roads will be open to vehicles from 8:00 a.m. to 2:00 p.m.\, offering a rare chance to explore refuge service roads by car.
X-ALT-DESC;FMTTYPE=text/html:<div data-olk-copy-source="MessageBody" style="border: 0px\; font-variant-numeric: inherit\; font-variant-east-asian: inherit\; font-variant-alternates: inherit\; font-variant-position: inherit\; font-variant-emoji: inherit\; font-stretch: inherit\; font-size: 12pt\; line-height: inherit\; font-family: Aptos\, Aptos_EmbeddedFont\, Aptos_MSFontService\, Calibri\, Helvetica\, sans-serif\; font-optical-sizing: inherit\; font-size-adjust: inherit\; font-kerning: inherit\; font-feature-settings: inherit\; font-variation-settings: inherit\; margin: 8px 0px 4px\; padding: 0px\; vertical-align: baseline\; background-color: rgb(255\, 255\, 255)\; direction: ltr\;"><span style="font-size:16px\;"><span style="font-family:arial\;">Sherburne National&nbsp\;Wildlife&nbsp\;Refuge and the Friends of Sherburne invite the public of all ages to the annual Wildlife Festival&nbsp\;on&nbsp\;Saturday\, September 27\, from&nbsp\;10:00 a.m. to 2:00 p.m.&nbsp\;at the&nbsp\;Oak Savanna Learning Center. This&nbsp\;free\, family-friendly event&nbsp\;is open to all ages and features engaging booths\, hands-on activities and opportunities to explore the refuge.</span></span></div>\n\n<div style="border: 0px\; font-variant-numeric: inherit\; font-variant-east-asian: inherit\; font-variant-alternates: inherit\; font-variant-position: inherit\; font-variant-emoji: inherit\; font-stretch: inherit\; font-size: 12pt\; line-height: inherit\; font-family: Aptos\, Aptos_EmbeddedFont\, Aptos_MSFontService\, Calibri\, Helvetica\, sans-serif\; font-optical-sizing: inherit\; font-size-adjust: inherit\; font-kerning: inherit\; font-feature-settings: inherit\; font-variation-settings: inherit\; margin: 8px 0px 4px\; padding: 0px\; vertical-align: baseline\; background-color: rgb(255\, 255\, 255)\;"><span style="font-size:16px\;"><span style="font-family:arial\;">In addition\, several refuge service roads will be open to vehicles from&nbsp\;8:00 a.m. to 2:00 p.m.\, offering a rare chance to explore refuge service roads by car.</span></span></div>\n
LOCATION:Sherburne National Wildlife Refuge Oak Savanna Learning Center 17076 293rd Ave NW Zimmerman
UID:e.32.32714
SEQUENCE:3
DTSTAMP:20260421T160437Z
URL:http://mobile.elkriverchamber.org/events/details/annual-wildlife-festival-32714
END:VEVENT

END:VCALENDAR
