BEGIN:VCALENDAR
VERSION:2.0
PRODID:-//ChamberMaster//Event Calendar 2.0//EN
METHOD:PUBLISH
X-PUBLISHED-TTL:P3D
REFRESH-INTERVAL:P3D
CALSCALE:GREGORIAN
BEGIN:VEVENT
DTSTART:20251206T150000Z
DTEND:20251206T180000Z
X-MICROSOFT-CDO-ALLDAYEVENT:FALSE
SUMMARY:A Family Holiday Celebration @ the BL Fire Station
DESCRIPTION:The Main Street Family Resource Center presents "A Holiday Family Celebration at the Fire Station!"\n\nBring the whole family for a morning of holiday joy! Join us for photos with Santa\, hands-on crafts\, cookie decorating\, community partner booths\, and more.\n\n\n\nWhat to expect:\n\nPhotos with Santa \n\nCrafts & activities for kids of all ages   \n\nCookie decorating  \n\nCommunity partners sharing resources and giveaways\n\nWarm\, family-friendly atmosphere!\n\nQuestions or accessibility requests? Email: shari.ley@mainstreetfamilyservices.org or call (612)473-1079\n\n\n\nWe can't wait to celebrate with you   save the date!
X-ALT-DESC;FMTTYPE=text/html:<p style="box-sizing: border-box\; margin: 0px 0px 16px\; padding: 0px 0px 1em\; border: 0px\; outline: 0px\; font-size: 18px\; text-size-adjust: 100%\; vertical-align: baseline\; background: rgb(255\, 255\, 255)\; line-height: 1.5\; color: rgb(20\, 24\, 39)\; font-family: &quot\;Helvetica Neue&quot\;\, Helvetica\, -apple-system\, BlinkMacSystemFont\, Roboto\, Arial\, sans-serif\;"><span style="font-size:16px\;"><span style="font-family:arial\;">The Main Street Family Resource Center presents<span style="box-sizing: border-box\; margin: 0px\; padding: 0px\; border: 0px\; outline: 0px\; text-size-adjust: 100%\; vertical-align: baseline\; background: transparent\; font-weight: 700\;">&nbsp\;&ldquo\;A Holiday Family Celebration at the Fire Station!&rdquo\;</span></span></span></p>\n\n<p data-end="209" data-start="54" style="box-sizing: border-box\; margin: 0px 0px 16px\; padding: 0px 0px 1em\; border: 0px\; outline: 0px\; font-size: 18px\; text-size-adjust: 100%\; vertical-align: baseline\; background: rgb(255\, 255\, 255)\; line-height: 1.5\; color: rgb(20\, 24\, 39)\; font-family: &quot\;Helvetica Neue&quot\;\, Helvetica\, -apple-system\, BlinkMacSystemFont\, Roboto\, Arial\, sans-serif\;"><span style="font-size:16px\;"><span style="font-family:arial\;">Bring the whole family for a morning of holiday joy! Join us for photos with Santa\, hands-on crafts\, cookie decorating\, community partner booths\, and more.</span></span><br />\n<br />\n<span style="font-size:16px\;"><span style="font-family:arial\;">What to expect:<br />\nPhotos with Santa&#127877\;<br style="box-sizing: border-box\;" />\nCrafts &amp\; activities for kids of all ages &#9986\;&#65039\;<br style="box-sizing: border-box\;" />\nCookie decorating &#127850\;<br style="box-sizing: border-box\;" />\nCommunity partners sharing resources and giveaways</span></span></p>\n\n<p data-end="341" data-start="319" style="box-sizing: border-box\; margin: 0px 0px 16px\; padding: 0px 0px 1em\; border: 0px\; outline: 0px\; font-size: 18px\; text-size-adjust: 100%\; vertical-align: baseline\; background: rgb(255\, 255\, 255)\; line-height: 1.5\; color: rgb(20\, 24\, 39)\; font-family: &quot\;Helvetica Neue&quot\;\, Helvetica\, -apple-system\, BlinkMacSystemFont\, Roboto\, Arial\, sans-serif\;"><span style="font-size:16px\;"><span style="font-family:arial\;">Warm\, family-friendly atmosphere!<br />\n<span style="color: rgb(20\, 24\, 39)\; background-color: rgb(255\, 255\, 255)\;">Questions or accessibility requests? Email:&nbsp\;</span><span style="box-sizing: border-box\; margin: 0px\; padding: 0px\; border: 0px\; outline: 0px\; text-size-adjust: 100%\; vertical-align: baseline\; background: rgb(255\, 255\, 255)\; color: rgb(46\, 163\, 242)\;">shari.ley@mainstreetfamilyservices.org&nbsp\;</span><span style="color: rgb(20\, 24\, 39)\; background-color: rgb(255\, 255\, 255)\;">or call (612)473-1079</span><br />\n<br />\n<span data-end="801" data-start="740" style="box-sizing: border-box\; margin: 0px\; padding: 0px\; border: 0px\; outline: 0px\; text-size-adjust: 100%\; vertical-align: baseline\; background: transparent\; font-weight: 700\;">We can&rsquo\;t wait to celebrate with you &mdash\; save the date!</span></span></span></p>\n
LOCATION:Where: Big Lake Fire Station 20243 County Rd 43 NW\, Big Lake\, MN 55309
UID:e.32.32792
SEQUENCE:3
DTSTAMP:20260421T212244Z
URL:http://mobile.elkriverchamber.org/events/details/a-family-holiday-celebration-the-bl-fire-station-32792
END:VEVENT

END:VCALENDAR
